BEGIN:VCALENDAR
VERSION:2.0
PRODID:-//hacksw/handcal//NONSGML v1.0//EN
BEGIN:VEVENT
SUMMARY:Tour du Tarn U17 - Domaine de Bessoulet
UID:ec3f35cf-5946-4202-abbc-8afa24f890f2
DTSTART:20260329T120000Z
DTEND:20260329T144500Z
LOCATION:Localisation Salle des fetes 81350 Serenac
CATEGORIES:Sportif
STATUS:
URL;VALUE=URI:https://www.saintjuery-cyclisme.com/evenements/2026/03/29/tour-du-tarn-u17-domaine-de-bessoulet-2435579
END:VEVENT
END:VCALENDAR
